BEGIN:VCALENDAR
VERSION:2.0
PRODID:-//Twin Creeks Golf Course - ECPv6.15.18//NONSGML v1.0//EN
CALSCALE:GREGORIAN
METHOD:PUBLISH
X-WR-CALNAME:Twin Creeks Golf Course
X-ORIGINAL-URL:https://www.twincreeksgolfcourse.com
X-WR-CALDESC:Events for Twin Creeks Golf Course
REFRESH-INTERVAL;VALUE=DURATION:PT1H
X-Robots-Tag:noindex
X-PUBLISHED-TTL:PT1H
BEGIN:VTIMEZONE
TZID:UTC
BEGIN:STANDARD
TZOFFSETFROM:+0000
TZOFFSETTO:+0000
TZNAME:UTC
DTSTART:20240101T000000
END:STANDARD
END:VTIMEZONE
BEGIN:VEVENT
DTSTART;TZID=UTC:20250509T080000
DTEND;TZID=UTC:20250516T130000
DTSTAMP:20260422T160708
CREATED:20250502T165424Z
LAST-MODIFIED:20250502T165424Z
UID:513-1746777600-1747400400@www.twincreeksgolfcourse.com
SUMMARY:Staff Development Day
DESCRIPTION:Course and Range closed until after 1pm
URL:https://www.twincreeksgolfcourse.com/event/staff-development-day/
END:VEVENT
END:VCALENDAR