BEGIN:VCALENDAR
VERSION:2.0
PRODID:-//Twin Creeks Golf Course - ECPv6.15.18//NONSGML v1.0//EN
CALSCALE:GREGORIAN
METHOD:PUBLISH
X-ORIGINAL-URL:https://www.twincreeksgolfcourse.com
X-WR-CALDESC:Events for Twin Creeks Golf Course
REFRESH-INTERVAL;VALUE=DURATION:PT1H
X-Robots-Tag:noindex
X-PUBLISHED-TTL:PT1H
BEGIN:VTIMEZONE
TZID:UTC
BEGIN:STANDARD
TZOFFSETFROM:+0000
TZOFFSETTO:+0000
TZNAME:UTC
DTSTART:20240101T000000
END:STANDARD
END:VTIMEZONE
BEGIN:VEVENT
DTSTART;TZID=UTC:20250517T110000
DTEND;TZID=UTC:20250517T123000
DTSTAMP:20260424T104328
CREATED:20250312T205133Z
LAST-MODIFIED:20250312T205133Z
UID:484-1747479600-1747485000@www.twincreeksgolfcourse.com
SUMMARY:Putting Clinic with Philip Brelland
DESCRIPTION:This clinic is specifically for the improvement of your putting. The presenter\, Phillip Brelland\, is a long time Salinas golfer who has the respect of many in the area as an excellent putter. Mr. Brelland will be able to give you insight on the process and procedures of “Putting to excellence” \nRegister here
URL:https://www.twincreeksgolfcourse.com/event/putting-clinic-with-philip-brelland/
END:VEVENT
END:VCALENDAR