BEGIN:VCALENDAR
VERSION:2.0
PRODID:-//Twin Creeks Golf Course - ECPv6.15.18//NONSGML v1.0//EN
CALSCALE:GREGORIAN
METHOD:PUBLISH
X-WR-CALNAME:Twin Creeks Golf Course
X-ORIGINAL-URL:https://www.twincreeksgolfcourse.com
X-WR-CALDESC:Events for Twin Creeks Golf Course
REFRESH-INTERVAL;VALUE=DURATION:PT1H
X-Robots-Tag:noindex
X-PUBLISHED-TTL:PT1H
BEGIN:VTIMEZONE
TZID:UTC
BEGIN:STANDARD
TZOFFSETFROM:+0000
TZOFFSETTO:+0000
TZNAME:UTC
DTSTART:20240101T000000
END:STANDARD
END:VTIMEZONE
BEGIN:VEVENT
DTSTART;VALUE=DATE:20250526
DTEND;VALUE=DATE:20250527
DTSTAMP:20260422T142204
CREATED:20250502T170643Z
LAST-MODIFIED:20250502T170655Z
UID:518-1748217600-1748303999@www.twincreeksgolfcourse.com
SUMMARY:Memorial Day
DESCRIPTION:Course and Range open regular hours
URL:https://www.twincreeksgolfcourse.com/event/memorial-day/
END:VEVENT
END:VCALENDAR