BEGIN:VCALENDAR
VERSION:2.0
PRODID:-//Twin Creeks Golf Course - ECPv6.15.18//NONSGML v1.0//EN
CALSCALE:GREGORIAN
METHOD:PUBLISH
X-ORIGINAL-URL:https://www.twincreeksgolfcourse.com
X-WR-CALDESC:Events for Twin Creeks Golf Course
REFRESH-INTERVAL;VALUE=DURATION:PT1H
X-Robots-Tag:noindex
X-PUBLISHED-TTL:PT1H
BEGIN:VTIMEZONE
TZID:UTC
BEGIN:STANDARD
TZOFFSETFROM:+0000
TZOFFSETTO:+0000
TZNAME:UTC
DTSTART:20240101T000000
END:STANDARD
END:VTIMEZONE
BEGIN:VEVENT
DTSTART;VALUE=DATE:20250602
DTEND;VALUE=DATE:20250603
DTSTAMP:20260424T084928
CREATED:20250307T192536Z
LAST-MODIFIED:20250523T222455Z
UID:456-1748822400-1748908799@www.twincreeksgolfcourse.com
SUMMARY:First Tee Summer Camp starts
DESCRIPTION:Course and Range open regular hours for Public Play\, although we do recommend arriving between 10-3:30pm for that is the least busy time
URL:https://www.twincreeksgolfcourse.com/event/first-tee-summer-camp-starts/
END:VEVENT
BEGIN:VEVENT
DTSTART;TZID=UTC:20250604T080000
DTEND;TZID=UTC:20250604T150000
DTSTAMP:20260424T084928
CREATED:20250529T210534Z
LAST-MODIFIED:20250529T210534Z
UID:530-1749024000-1749049200@www.twincreeksgolfcourse.com
SUMMARY:Course Closed until 3pm for First Tee Summer Camp
DESCRIPTION:The Range is open until 2pm when it closes for mowing and maintenance
URL:https://www.twincreeksgolfcourse.com/event/course-closed-until-3pm-for-first-tee-summer-camp/
END:VEVENT
BEGIN:VEVENT
DTSTART;TZID=UTC:20250606T120000
DTEND;TZID=UTC:20250606T180000
DTSTAMP:20260424T084928
CREATED:20250523T221409Z
LAST-MODIFIED:20250523T222237Z
UID:525-1749211200-1749232800@www.twincreeksgolfcourse.com
SUMMARY:Course Closed at 12pm For Fundraiser
DESCRIPTION:Course open before 12pm; Range open all-day.
URL:https://www.twincreeksgolfcourse.com/event/course-closed-at-12pm-for-fundraiser/
END:VEVENT
BEGIN:VEVENT
DTSTART;VALUE=DATE:20250607
DTEND;VALUE=DATE:20250608
DTSTAMP:20260424T084928
CREATED:20250523T221226Z
LAST-MODIFIED:20250523T221226Z
UID:523-1749254400-1749340799@www.twincreeksgolfcourse.com
SUMMARY:Course and Range Closed For Fundraiser
DESCRIPTION:Course and Range closed all-day.
URL:https://www.twincreeksgolfcourse.com/event/course-and-range-closed-for-fundraiser/
END:VEVENT
BEGIN:VEVENT
DTSTART;TZID=UTC:20250611T080000
DTEND;TZID=UTC:20250611T150000
DTSTAMP:20260424T084928
CREATED:20250530T171727Z
LAST-MODIFIED:20250530T171727Z
UID:533-1749628800-1749654000@www.twincreeksgolfcourse.com
SUMMARY:Course Closed until 3pm for First Tee Summer Camp
DESCRIPTION:Range open until 2pm when it closes for mowing and maintenance
URL:https://www.twincreeksgolfcourse.com/event/course-closed-until-3pm-for-first-tee-summer-camp-2/
END:VEVENT
BEGIN:VEVENT
DTSTART;TZID=UTC:20250614T100000
DTEND;TZID=UTC:20250614T140000
DTSTAMP:20260424T084928
CREATED:20250604T154555Z
LAST-MODIFIED:20250604T154555Z
UID:540-1749895200-1749909600@www.twincreeksgolfcourse.com
SUMMARY:Mizuno Fitting
DESCRIPTION:Come try out the latest clubs Mizuno has to offer!
URL:https://www.twincreeksgolfcourse.com/event/mizuno-fitting/
END:VEVENT
BEGIN:VEVENT
DTSTART;TZID=UTC:20250618T080000
DTEND;TZID=UTC:20250618T150000
DTSTAMP:20260424T084928
CREATED:20250530T172342Z
LAST-MODIFIED:20250530T172342Z
UID:535-1750233600-1750258800@www.twincreeksgolfcourse.com
SUMMARY:Course closed until 3pm for First Tee Summer Camp
DESCRIPTION:Range is open until 2pm when it closes for mowing and maintenance
URL:https://www.twincreeksgolfcourse.com/event/course-closed-until-3pm-for-first-tee-summer-camp-3/
END:VEVENT
BEGIN:VEVENT
DTSTART;VALUE=DATE:20250619
DTEND;VALUE=DATE:20250620
DTSTAMP:20260424T084928
CREATED:20250619T154527Z
LAST-MODIFIED:20250619T154527Z
UID:543-1750291200-1750377599@www.twincreeksgolfcourse.com
SUMMARY:Course Closed for Summer Camp
DESCRIPTION:Range open all day
URL:https://www.twincreeksgolfcourse.com/event/course-closed-for-summer-camp/
END:VEVENT
BEGIN:VEVENT
DTSTART;TZID=UTC:20250625T080000
DTEND;TZID=UTC:20250625T150000
DTSTAMP:20260424T084928
CREATED:20250530T172910Z
LAST-MODIFIED:20250530T172910Z
UID:537-1750838400-1750863600@www.twincreeksgolfcourse.com
SUMMARY:Course Closed for First Tee Summer Camp
DESCRIPTION:Range is open until 2pm when it closes for mowing and maintenance
URL:https://www.twincreeksgolfcourse.com/event/course-closed-for-first-tee-summer-camp/
END:VEVENT
BEGIN:VEVENT
DTSTART;TZID=UTC:20250629T080000
DTEND;TZID=UTC:20250707T170000
DTSTAMP:20260424T084928
CREATED:20250629T014135Z
LAST-MODIFIED:20250629T014135Z
UID:557-1751184000-1751907600@www.twincreeksgolfcourse.com
SUMMARY:First Tee Summer Camp Break Week
DESCRIPTION:Course and Range open normal hours
URL:https://www.twincreeksgolfcourse.com/event/first-tee-summer-camp-break-week/
END:VEVENT
END:VCALENDAR