BEGIN:VCALENDAR
VERSION:2.0
PRODID:-//Twin Creeks Golf Course - ECPv6.15.18//NONSGML v1.0//EN
CALSCALE:GREGORIAN
METHOD:PUBLISH
X-WR-CALNAME:Twin Creeks Golf Course
X-ORIGINAL-URL:https://www.twincreeksgolfcourse.com
X-WR-CALDESC:Events for Twin Creeks Golf Course
REFRESH-INTERVAL;VALUE=DURATION:PT1H
X-Robots-Tag:noindex
X-PUBLISHED-TTL:PT1H
BEGIN:VTIMEZONE
TZID:UTC
BEGIN:STANDARD
TZOFFSETFROM:+0000
TZOFFSETTO:+0000
TZNAME:UTC
DTSTART:20240101T000000
END:STANDARD
END:VTIMEZONE
BEGIN:VEVENT
DTSTART;TZID=UTC:20250629T080000
DTEND;TZID=UTC:20250707T170000
DTSTAMP:20260422T110101
CREATED:20250629T014135Z
LAST-MODIFIED:20250629T014135Z
UID:557-1751184000-1751907600@www.twincreeksgolfcourse.com
SUMMARY:First Tee Summer Camp Break Week
DESCRIPTION:Course and Range open normal hours
URL:https://www.twincreeksgolfcourse.com/event/first-tee-summer-camp-break-week/
END:VEVENT
BEGIN:VEVENT
DTSTART;VALUE=DATE:20250705
DTEND;VALUE=DATE:20250706
DTSTAMP:20260422T110101
CREATED:20250620T200616Z
LAST-MODIFIED:20250620T200616Z
UID:547-1751673600-1751759999@www.twincreeksgolfcourse.com
SUMMARY:Independence Day Tournament
DESCRIPTION:Course closed until 3pm; Range open all-day
URL:https://www.twincreeksgolfcourse.com/event/independence-day-tournament/
END:VEVENT
BEGIN:VEVENT
DTSTART;VALUE=DATE:20250707
DTEND;VALUE=DATE:20250708
DTSTAMP:20260422T110101
CREATED:20250307T191236Z
LAST-MODIFIED:20250307T192957Z
UID:451-1751846400-1751932799@www.twincreeksgolfcourse.com
SUMMARY:July 4th
DESCRIPTION:Course and Range open regular hours for Public Play
URL:https://www.twincreeksgolfcourse.com/event/july-4th/
END:VEVENT
BEGIN:VEVENT
DTSTART;TZID=UTC:20250709T083000
DTEND;TZID=UTC:20250709T150000
DTSTAMP:20260422T110101
CREATED:20250622T232052Z
LAST-MODIFIED:20250622T232052Z
UID:549-1752049800-1752073200@www.twincreeksgolfcourse.com
SUMMARY:Course Closed for First Tee Summer Camp
DESCRIPTION:Range is open until 2pm when it closes for mowing and maintenance
URL:https://www.twincreeksgolfcourse.com/event/course-closed-for-first-tee-summer-camp-3/
END:VEVENT
BEGIN:VEVENT
DTSTART;TZID=UTC:20250716T083000
DTEND;TZID=UTC:20250716T150000
DTSTAMP:20260422T110101
CREATED:20250622T232219Z
LAST-MODIFIED:20250622T232219Z
UID:551-1752654600-1752678000@www.twincreeksgolfcourse.com
SUMMARY:Course Closed for First Tee Summer Camp
DESCRIPTION:Range is open until 2pm when it closes for mowing and maintenance
URL:https://www.twincreeksgolfcourse.com/event/course-closed-for-first-tee-summer-camp-4/
END:VEVENT
BEGIN:VEVENT
DTSTART;VALUE=DATE:20250718
DTEND;VALUE=DATE:20250719
DTSTAMP:20260422T110101
CREATED:20250619T171754Z
LAST-MODIFIED:20250619T171754Z
UID:545-1752796800-1752883199@www.twincreeksgolfcourse.com
SUMMARY:Course Closed for First Tee Summer Camp
DESCRIPTION:Range open all-day
URL:https://www.twincreeksgolfcourse.com/event/course-closed-for-first-tee-summer-camp-2/
END:VEVENT
BEGIN:VEVENT
DTSTART;TZID=UTC:20250723T083000
DTEND;TZID=UTC:20250723T150000
DTSTAMP:20260422T110101
CREATED:20250622T232328Z
LAST-MODIFIED:20250622T232328Z
UID:553-1753259400-1753282800@www.twincreeksgolfcourse.com
SUMMARY:Course Closed for First Tee Summer Camp
DESCRIPTION:Range is open until 2pm when it closes for mowing and maintenance
URL:https://www.twincreeksgolfcourse.com/event/course-closed-for-first-tee-summer-camp-5/
END:VEVENT
BEGIN:VEVENT
DTSTART;TZID=UTC:20250730T083000
DTEND;TZID=UTC:20250730T150000
DTSTAMP:20260422T110101
CREATED:20250622T232414Z
LAST-MODIFIED:20250622T232414Z
UID:555-1753864200-1753887600@www.twincreeksgolfcourse.com
SUMMARY:Course Closed for First Tee Summer Camp
DESCRIPTION:Range is open until 2pm when it closes for mowing and maintenance
URL:https://www.twincreeksgolfcourse.com/event/course-closed-for-first-tee-summer-camp-6/
END:VEVENT
END:VCALENDAR